BEGIN:VCALENDAR
VERSION:2.0
PRODID:-//SHE BUSINESS - ECPv5.8.0//NONSGML v1.0//EN
CALSCALE:GREGORIAN
METHOD:PUBLISH
X-WR-CALNAME:SHE BUSINESS
X-ORIGINAL-URL:https://www.shebusiness.co.uk
X-WR-CALDESC:Events for SHE BUSINESS
BEGIN:VTIMEZONE
TZID:Europe/London
BEGIN:DAYLIGHT
TZOFFSETFROM:+0000
TZOFFSETTO:+0100
TZNAME:BST
DTSTART:20200329T010000
END:DAYLIGHT
BEGIN:STANDARD
TZOFFSETFROM:+0100
TZOFFSETTO:+0000
TZNAME:GMT
DTSTART:20201025T010000
END:STANDARD
END:VTIMEZONE
BEGIN:VEVENT
DTSTART;TZID=Europe/London:20200811T114500
DTEND;TZID=Europe/London:20200811T140000
DTSTAMP:20260425T165057
CREATED:20191212T120523Z
LAST-MODIFIED:20191212T120523Z
UID:1220-1597146300-1597154400@www.shebusiness.co.uk
SUMMARY:HALIFAX
DESCRIPTION:If you are a member of this group\, and unable to attend at short notice\, or running late please contact the group facilitator Paula Grizzard on 07798521500.
URL:https://www.shebusiness.co.uk/event/halifax-19/
LOCATION:Elsie Whiteley Innovation Centre\, 14 Hopwood Ln\, Halifaz\, HX1 5ER\, United Kingdom
CATEGORIES:HALIFAX,WIBN
END:VEVENT
END:VCALENDAR