BEGIN:VCALENDAR
VERSION:2.0
PRODID:-//SHE BUSINESS - ECPv5.8.0//NONSGML v1.0//EN
CALSCALE:GREGORIAN
METHOD:PUBLISH
X-WR-CALNAME:SHE BUSINESS
X-ORIGINAL-URL:https://www.shebusiness.co.uk
X-WR-CALDESC:Events for SHE BUSINESS
BEGIN:VTIMEZONE
TZID:Europe/London
BEGIN:DAYLIGHT
TZOFFSETFROM:+0000
TZOFFSETTO:+0100
TZNAME:BST
DTSTART:20200329T010000
END:DAYLIGHT
BEGIN:STANDARD
TZOFFSETFROM:+0100
TZOFFSETTO:+0000
TZNAME:GMT
DTSTART:20201025T010000
END:STANDARD
END:VTIMEZONE
BEGIN:VEVENT
DTSTART;TZID=Europe/London:20200706T114500
DTEND;TZID=Europe/London:20200706T140000
DTSTAMP:20260425T165301
CREATED:20190822T120725Z
LAST-MODIFIED:20190822T120725Z
UID:948-1594035900-1594044000@www.shebusiness.co.uk
SUMMARY:LEEDS CENTRAL
DESCRIPTION:If you are a member of this group\, and unable to attend at short notice\, or running late please contact the group facilitator Paula Grizzard on 07798521500.
URL:https://www.shebusiness.co.uk/event/leeds-central-19/
LOCATION:Banyan\, 2 City Square\, Leeds\, LS1 2AN\, United Kingdom
CATEGORIES:LEEDS CENTRAL,WIBN
END:VEVENT
END:VCALENDAR