BEGIN:VCALENDAR
VERSION:2.0
PRODID:-//SHE BUSINESS - ECPv5.8.0//NONSGML v1.0//EN
CALSCALE:GREGORIAN
METHOD:PUBLISH
X-WR-CALNAME:SHE BUSINESS
X-ORIGINAL-URL:https://www.shebusiness.co.uk
X-WR-CALDESC:Events for SHE BUSINESS
BEGIN:VTIMEZONE
TZID:Europe/London
BEGIN:DAYLIGHT
TZOFFSETFROM:+0000
TZOFFSETTO:+0100
TZNAME:BST
DTSTART:20200329T010000
END:DAYLIGHT
BEGIN:STANDARD
TZOFFSETFROM:+0100
TZOFFSETTO:+0000
TZNAME:GMT
DTSTART:20201025T010000
END:STANDARD
END:VTIMEZONE
BEGIN:VEVENT
DTSTART;TZID=Europe/London:20200810T114500
DTEND;TZID=Europe/London:20200810T140000
DTSTAMP:20260425T134731
CREATED:20191212T120438Z
LAST-MODIFIED:20191212T120438Z
UID:1218-1597059900-1597068000@www.shebusiness.co.uk
SUMMARY:LEEDS METRO
DESCRIPTION:If you are a member of this group\, and unable to attend at short notice\, or running late please contact the group facilitator Paula Grizzard on 07798521500.
URL:https://www.shebusiness.co.uk/event/leeds-metro-20/
LOCATION:Blackhouse\, The Grill on the Square\, 31-33 East Parade\, Leeds\, LS1 5PS\, United Kingdom
CATEGORIES:LEEDS METRO,WIBN
END:VEVENT
END:VCALENDAR