BEGIN:VCALENDAR
VERSION:2.0
PRODID:-//SHE BUSINESS - ECPv5.8.0//NONSGML v1.0//EN
CALSCALE:GREGORIAN
METHOD:PUBLISH
X-WR-CALNAME:SHE BUSINESS
X-ORIGINAL-URL:https://www.shebusiness.co.uk
X-WR-CALDESC:Events for SHE BUSINESS
BEGIN:VTIMEZONE
TZID:Europe/London
BEGIN:DAYLIGHT
TZOFFSETFROM:+0000
TZOFFSETTO:+0100
TZNAME:BST
DTSTART:20200329T010000
END:DAYLIGHT
BEGIN:STANDARD
TZOFFSETFROM:+0100
TZOFFSETTO:+0000
TZNAME:GMT
DTSTART:20201025T010000
END:STANDARD
END:VTIMEZONE
BEGIN:VEVENT
DTSTART;TZID=Europe/London:20200331T093000
DTEND;TZID=Europe/London:20200331T120000
DTSTAMP:20260425T231209
CREATED:20191212T102746Z
LAST-MODIFIED:20191212T102746Z
UID:1147-1585647000-1585656000@www.shebusiness.co.uk
SUMMARY:WOMEN IN PROPERTY
DESCRIPTION:The next in our sector specific events for women in property\, construction & related industries. More information coming soon.
URL:https://www.shebusiness.co.uk/event/women-in-property/
CATEGORIES:SECTOR SPECIFIC NETWORKING
ORGANIZER;CN="SHE%20BUSINESS":MAILTO:info@shebusiness.co.uk
END:VEVENT
END:VCALENDAR