BEGIN:VCALENDAR
VERSION:2.0
PRODID:-//SHE BUSINESS - ECPv5.8.0//NONSGML v1.0//EN
CALSCALE:GREGORIAN
METHOD:PUBLISH
X-WR-CALNAME:SHE BUSINESS
X-ORIGINAL-URL:https://www.shebusiness.co.uk
X-WR-CALDESC:Events for SHE BUSINESS
BEGIN:VTIMEZONE
TZID:Europe/London
BEGIN:DAYLIGHT
TZOFFSETFROM:+0000
TZOFFSETTO:+0100
TZNAME:BST
DTSTART:20200329T010000
END:DAYLIGHT
BEGIN:STANDARD
TZOFFSETFROM:+0100
TZOFFSETTO:+0000
TZNAME:GMT
DTSTART:20201025T010000
END:STANDARD
END:VTIMEZONE
BEGIN:VEVENT
DTSTART;TZID=Europe/London:20200805T114500
DTEND;TZID=Europe/London:20200805T140000
DTSTAMP:20260425T152326
CREATED:20191212T120039Z
LAST-MODIFIED:20191212T120039Z
UID:1216-1596627900-1596636000@www.shebusiness.co.uk
SUMMARY:SHEFFIELD
DESCRIPTION:If you are a member of this group\, and unable to attend at short notice\, or running late please contact the group facilitator Wendy Ward on 07729481010.
URL:https://www.shebusiness.co.uk/event/sheffield-20/
LOCATION:The Leopold Hotel\, 2 Leopold Street\, Leopold Square\, Sheffield\, S1 2GZ\, United Kingdom
CATEGORIES:SHEFFIELD,WIBN
END:VEVENT
END:VCALENDAR