BEGIN:VCALENDAR
VERSION:2.0
PRODID:-//SHE BUSINESS - ECPv5.8.0//NONSGML v1.0//EN
CALSCALE:GREGORIAN
METHOD:PUBLISH
X-WR-CALNAME:SHE BUSINESS
X-ORIGINAL-URL:https://www.shebusiness.co.uk
X-WR-CALDESC:Events for SHE BUSINESS
BEGIN:VTIMEZONE
TZID:Europe/London
BEGIN:DAYLIGHT
TZOFFSETFROM:+0000
TZOFFSETTO:+0100
TZNAME:BST
DTSTART:20200329T010000
END:DAYLIGHT
BEGIN:STANDARD
TZOFFSETFROM:+0100
TZOFFSETTO:+0000
TZNAME:GMT
DTSTART:20201025T010000
END:STANDARD
END:VTIMEZONE
BEGIN:VEVENT
DTSTART;TZID=Europe/London:20201006T114500
DTEND;TZID=Europe/London:20201006T140000
DTSTAMP:20260425T123625
CREATED:20190822T123755Z
LAST-MODIFIED:20190822T123755Z
UID:976-1601984700-1601992800@www.shebusiness.co.uk
SUMMARY:HUDDERSFIELD & WAKEFIELD
DESCRIPTION:If you are a member of this group\, and unable to attend at short notice\, or running late please contact the group facilitator Rachel Moore on 07904007660.
URL:https://www.shebusiness.co.uk/event/huddersfield-wakefield-20/
LOCATION:Bar 315\, 315 Wakefield Road\, Lepton\, HD8 0LX\, United Kingdom
CATEGORIES:HUDDERSFIELD & WAKEFIELD,WIBN
END:VEVENT
END:VCALENDAR